BEGIN:VCALENDAR
VERSION:2.0
PRODID:-//Sabre//Sabre VObject 4.5.8//EN
CALSCALE:GREGORIAN
BEGIN:VTIMEZONE
TZID:Europe/Zurich
X-LIC-LOCATION:Europe/Zurich
TZURL:http://tzurl.org/zoneinfo/Europe/Zurich
BEGIN:DAYLIGHT
TZOFFSETFROM:+0100
TZOFFSETTO:+0200
TZNAME:CEST
DTSTART:19810329T020000
RRULE:FREQ=YEARLY;BYMONTH=3;BYDAY=-1SU
END:DAYLIGHT
BEGIN:STANDARD
TZOFFSETFROM:+0200
TZOFFSETTO:+0100
TZNAME:CET
DTSTART:19961027T030000
RRULE:FREQ=YEARLY;BYMONTH=10;BYDAY=-1SU
END:STANDARD
END:VTIMEZONE
BEGIN:VEVENT
UID:news385@medienwissenschaft.philhist.unibas.ch
DTSTAMP;TZID=Europe/Zurich:20260326T091217
DTSTART;VALUE=DATE:20260416
SUMMARY:Symposium: Gegen-Einstellungen 
DESCRIPTION:Das Symposium diskutiert künstlerische Positionen als politisc
 he und andersherum als Verhältnis von Ästhetik\, Erfahrung und Kino. Das
  Symposium ist Teil eines Seminars zum Kino des Nahen Ostens\, für alle I
 nteressierten offen und wird mit zwei Filmen von Edna Politi eröffnet.\\r
 \\nDonnerstag\, 16.04.\\r\\n16:00 Uhr: Für die Palästinenser. Pour les P
 alestiniens\, une Israélienne témoigne [BRD (DFFB) 1974]\, Regie: Edna P
 oliti\, 85' (restaurierte Fassung). Im Anschluss Gespräch mit Edna Politi
 \\r\\n\\r\\n18:00 Uhr: Anou Banou — Töchter der Utopie\, [BRD 1983]\, R
 egie R. Edna Politi\, 85' (restaurierte Fassung). Im Anschluss Gespräch u
 nd Diskussion mit Edna Politi. Kleiner Empfang\\r\\nFreitag\, 17.04.\\r\\n
 09:00 Uhr: To See if I am Smiling\, [Israel 2007]\, Regie: Tamar Yarom\, 5
 9'\, Im Anschluss Gespräch mit Tamar Yarom (online).\\r\\n\\r\\n11:00 Uhr
 : The Snake Charmer\, [Israel\, 2026]\, R: Jonathan Omer Mizrahi\, 45'\, I
 m Anschluss Gespräch mit Jonathan Omer Mizrahi. \\r\\n\\r\\n15:00Uhr: Wi
 th Hasan in Gaza\, [Palästina\, D\, F\, Qatar 2025]\, Regie: Kamal Aljafa
 ri\, 106'\, Im Anschluss Gespräch mit Produzentin Flavia Mazzarino. \\r\
 \n\\r\\n17:00 Uhr: Filme und Gespräch mit Alain Kantarjian\, Beirut im Ki
 no. \\r\\nwww.stadtkinobasel.ch/film/symposium_gegen-einstellungen [https
 ://www.stadtkinobasel.ch/film/symposium__gegen-einstellungen_dokumentarfil
 me_aus_dem_nahen_osten/4588/675]
X-ALT-DESC:<p>Das Symposium diskutiert künstlerische Positionen als politi
 sche und andersherum als Verhältnis von Ästhetik\, Erfahrung und Kino. D
 as Symposium ist Teil eines Seminars zum Kino des Nahen Ostens\, für alle
  Interessierten offen und wird mit zwei Filmen von Edna Politi eröffnet.<
 /p>\n<p><strong>Donnerstag\, 16.04.</strong></p>\n<ul><li>16:00 Uhr: <span
 ><strong>Für die Palästinenser. Pour les Palestiniens\, une Israélienne
  témoigne</strong></span> [BRD (DFFB) 1974]\, Regie: Edna Politi\, 85' (r
 estaurierte Fassung). Im Anschluss Gespräch mit Edna Politi</li></ul>\n\n
 <ul><li>18:00 Uhr: <span><strong>Anou Banou — Töchter der Utopie</stron
 g></span><strong>\,</strong> [BRD 1983]\, Regie R. Edna Politi\, 85' (rest
 aurierte Fassung). Im Anschluss Gespräch und Diskussion mit Edna Politi. 
 Kleiner Empfang</li></ul>\n<p><strong>Freitag\, 17.04.</strong></p>\n<ul><
 li>09:00 Uhr: <span><strong>To See if I am Smiling</strong></span><strong>
 \,</strong> [Israel 2007]\, Regie: Tamar Yarom\, 59'\, Im Anschluss Gespr
 äch mit Tamar Yarom (online).</li></ul>\n\n<ul><li>11:00 Uhr: <span><stro
 ng>The Snake Charmer</strong></span>\, [Israel\, 2026]\, R: Jonathan Omer 
 Mizrahi\, 45'\, Im Anschluss Gespräch mit Jonathan Omer Mizrahi.&nbsp\;</
 li></ul>\n\n<ul><li>15:00Uhr: <span><strong>With Hasan in Gaza</strong></s
 pan>\, [Palästina\, D\, F\, Qatar 2025]\, Regie: Kamal Aljafari\, 106'\, 
 Im Anschluss Gespräch mit Produzentin Flavia Mazzarino.&nbsp\;</li></ul>\
 n\n<ul><li>17:00 Uhr: Filme und Gespräch mit Alain Kantarjian\, Beirut im
  Kino.&nbsp\;</li></ul>\n<p><a href="https://www.stadtkinobasel.ch/film/sy
 mposium__gegen-einstellungen_dokumentarfilme_aus_dem_nahen_osten/4588/675"
  title="www.stadtkinobasel.ch/film/symposium_gegen-einstellungen">www.stad
 tkinobasel.ch/film/symposium_gegen-einstellungen</a></p>
DTEND;VALUE=DATE:20260417
END:VEVENT
END:VCALENDAR
